BEGIN:VCALENDAR
VERSION:2.0
PRODID:-//Björklidens Golfklubb - ECPv6.15.20//NONSGML v1.0//EN
CALSCALE:GREGORIAN
METHOD:PUBLISH
X-WR-CALNAME:Björklidens Golfklubb
X-ORIGINAL-URL:https://www.bjorklidensgolfklubb.se
X-WR-CALDESC:Händelser för Björklidens Golfklubb
REFRESH-INTERVAL;VALUE=DURATION:PT1H
X-Robots-Tag:noindex
X-PUBLISHED-TTL:PT1H
BEGIN:VTIMEZONE
TZID:Europe/Stockholm
BEGIN:DAYLIGHT
TZOFFSETFROM:+0100
TZOFFSETTO:+0200
TZNAME:CEST
DTSTART:20250330T010000
END:DAYLIGHT
BEGIN:STANDARD
TZOFFSETFROM:+0200
TZOFFSETTO:+0100
TZNAME:CET
DTSTART:20251026T010000
END:STANDARD
BEGIN:DAYLIGHT
TZOFFSETFROM:+0100
TZOFFSETTO:+0200
TZNAME:CEST
DTSTART:20260329T010000
END:DAYLIGHT
BEGIN:STANDARD
TZOFFSETFROM:+0200
TZOFFSETTO:+0100
TZNAME:CET
DTSTART:20261025T010000
END:STANDARD
BEGIN:DAYLIGHT
TZOFFSETFROM:+0100
TZOFFSETTO:+0200
TZNAME:CEST
DTSTART:20270328T010000
END:DAYLIGHT
BEGIN:STANDARD
TZOFFSETFROM:+0200
TZOFFSETTO:+0100
TZNAME:CET
DTSTART:20271031T010000
END:STANDARD
BEGIN:DAYLIGHT
TZOFFSETFROM:+0100
TZOFFSETTO:+0200
TZNAME:CEST
DTSTART:20280326T010000
END:DAYLIGHT
BEGIN:STANDARD
TZOFFSETFROM:+0200
TZOFFSETTO:+0100
TZNAME:CET
DTSTART:20281029T010000
END:STANDARD
END:VTIMEZONE
BEGIN:VEVENT
DTSTART;TZID=Europe/Stockholm:20260101T000000
DTEND;TZID=Europe/Stockholm:20270131T230000
DTSTAMP:20260422T120432
CREATED:20240509T225044Z
LAST-MODIFIED:20260324T194931Z
UID:44889-1767225600-1801436400@www.bjorklidensgolfklubb.se
SUMMARY:BJÖRKLIDENS GK - program för 2026 (preliminärt).
DESCRIPTION:Här visas de aktiviter som klubben planerar att genomföra 2026 förutom golftävlingar och tävlingsprogrammet för 60+\, dessa kommer finnas under sektionen tävlingar när säsongen börjar närma sig.  \n\n\n\nAktiviteterna kommer läggas upp och göras bokningsbara allt eftersom detaljerna blir klara. Titta ofta in här på aktivitetskalendern för att se vad som är på gång så du inte missar något kul. Information skickas även ut via klubbens nyhetsbrev\, så håll utkik även efter dessa. Tänk på att det ofta finns platsbegränsningar och då gäller först till kvarn. Anmälan till aktiviteterna är bindande och generellt betalas inga avgifter tillbaka vid avbokning om inte annat anges. Däremot kan du alltid överlåta din plats till någon annan medlem. Tag chansen och häng med på några aktiviteter du också!  \n\n\n\n      Varmt välkommen!    \n\n\n\nBjörklidens Golfklubb
URL:https://www.bjorklidensgolfklubb.se/event/bjorkliden-program-2026/
CATEGORIES:60+,Aktiviteter,Inlägg,Nyheter,Träning
ATTACH;FMTTYPE=image/png:https://www.bjorklidensgolfklubb.se/wp-content/uploads/2021/04/deltagare-2024-F.png
END:VEVENT
BEGIN:VEVENT
DTSTART;TZID=Europe/Stockholm:20260414T100000
DTEND;TZID=Europe/Stockholm:20260430T150000
DTSTAMP:20260422T120432
CREATED:20260410T102421Z
LAST-MODIFIED:20260414T174050Z
UID:51147-1776160800-1777561200@www.bjorklidensgolfklubb.se
SUMMARY:Nu är säsongen utomhus igång på riktigt för 60+
DESCRIPTION:På Bodaholm 18 hål varje tisdag med första start kl 10\, från 14 april.                                                             På Bromma 9+9 hål varje torsdag med första start kl 10\, från 30 april. \nVi spelar ett lättsamt sällskapsspel\, oftast som slaggolf och poäng-boggy men kommer även pröva några andra spelformer. Månadstävlingar spelas i slutet av varje månad och vi håller igång fram till oktober om vädret är med oss. \nAnmälan på Min Golf – GIT tävling som tidigare\, följ länken.  \n\nBodaholm senast kl. 12 måndag före speldag (tisdag).\nBromma senast kl. 16 tisdag före speldag (torsdag).\n\nPå tävlingssidan klicka gärna på globen uppe i högra hörnet för att ställa in rätt språk. \nAnsvarig för 60+ på Bromma är Anders Quant 070 – 593 91 80                                                                  Ansvarig för 60+ på Bodaholm är Lasse Elfström 073 – 331 53 38 \nVälkommen till en ny härlig säsong! \nBjörklidens Golfklubb\n 
URL:https://www.bjorklidensgolfklubb.se/event/nu-ar-sasongen-igang-pa-riktigt-for-60/
CATEGORIES:Aktiviteter,Inlägg,Nyheter,Senaste Nytt
ATTACH;FMTTYPE=image/jpeg:https://www.bjorklidensgolfklubb.se/wp-content/uploads/2018/10/180821c3-Bodaholm.jpg
END:VEVENT
BEGIN:VEVENT
DTSTART;TZID=Europe/Stockholm:20260429T150000
DTEND;TZID=Europe/Stockholm:20260429T180000
DTSTAMP:20260422T120432
CREATED:20250410T120349Z
LAST-MODIFIED:20260419T130359Z
UID:49360-1777474800-1777485600@www.bjorklidensgolfklubb.se
SUMMARY:Start för Björklidens onsdagsträning utomhus med Johan - börjar 29 april
DESCRIPTION:Välkommen till en ny fantastisk säsong utomhus och Björklidens subventionerade träningar. Vi tränar allt från drive till puttar med klubbens Pro\, Johan Almgren. Vi startar den 29 april och håller på varje onsdag till den 24 juni\, sedan gör vi sommaruppehåll. \n\n\n\nTräningstider\, \n\n\n\n15:00 -15:55 Damer/tjejer \n\n\n\n16:00 -16:55 Damer/tjejer \n\n\n\n17:00 -17:55 Seniorer Mix Damer och herrar.  \n\n\n\nKostnaden är 80:- per träningstillfälle och vi är max 12 vid varje träningstillfälle. Anmälan är bindande och inga pengar betalas tillbaka vid avbokning. Däremot kan du överlåta din plats till någon annan\, hör av dig då med sms till Ginger 070-4216049 eller Berit 073-0987600. Bokningen öppnar torsdag-fredag veckan innan träningstillfället och stängs på tisdagen\, dagen före träningen.  \n\n\n\nOBS. Det är endast träning med Johan den 29 april – inget spel efteråt \n\n\n\nAnmälan till träningen den 29 april gör du här  \n\n\n\nFrån och med träningen 6 maj går de som vill med ut på banan efteråt och prövar på sina nya färdigheter samtidigt som vi spelar någon liten skojtävling. Detta gäller endast de damer som tränar kl 15 och 16.  \n\n\n\nAnmälan för spel efteråt från och med 6 maj kostar 30 kr och betalning för denna görs via Swish till Ginger 070-4216049\, efter att du gjort din bokning för träningen. Bokningen till 6 maj öppnar den 30 april. Avgiften går oavkortat till vårt lilla prisbord.  \n\n\n\nOm du har frågor eller undrar något så ring gärna Ginger 070-4216049 eller Berit 073-09876000.  \n\n\n\n                     Varmt välkommen! \n\n\n\n                          Ginger och Berit \n\n\n\nAnsvariga för damsektionen i Björklidens Golfklubb
URL:https://www.bjorklidensgolfklubb.se/event/bjorklidens-onsdagstraning-utomhus-med-johan-start-16-april/
CATEGORIES:60+,Aktiviteter,Senaste Nytt,Träning
ATTACH;FMTTYPE=image/jpeg:https://www.bjorklidensgolfklubb.se/wp-content/uploads/2020/02/53984cae-fc68-4a3a-902a-645f2a468e54.jpg
END:VEVENT
BEGIN:VEVENT
DTSTART;TZID=Europe/Stockholm:20260605T104500
DTEND;TZID=Europe/Stockholm:20260606T160000
DTSTAMP:20260422T120432
CREATED:20240513T191513Z
LAST-MODIFIED:20260419T155749Z
UID:47865-1780656300-1780761600@www.bjorklidensgolfklubb.se
SUMMARY:Klubbresa till Johannesbergs slott och GK\, 2 dagar med en övernattning 5-6 juni.
DESCRIPTION:Johannesberg bjuder på en vacker 18 och 9-hålsbana i härlig slottsmiljö och passar de flesta typer av spelare. Banan är lätt kuperad med bra kondition på både greener och fairways. Vi spelar 18 hålsbanan på Johannesberg både på fredag och lördag\, men sen start lördag vilket ger möjlighet att sova ut ordentligt. Boende är ordnat på Johannesbergs slott i anslutning till banan. Johannesberg är beläget nordöst om Arlanda och det tar ca 1 timme från Stockholm med bil.  \nKostnaden för äventyret är endast 1550:- per person i delat dubbelrum\, önskar du enkelrum tillkommer 500:- och hundrum 300:-. Priset är subventionerat av Björklidens GK. \nI arrangemanget ingår\, \n\n5 och 6 juni\, 18 hål golf på Johannesbergs stora bana \n2-rätters middag\nBoende i dubbelrum\nFrukostbuffé lördag\nInträde till SPA och gym\nEfter 9-hål lördag\, macka/korv samt kaffe/dricka.\n\nVi startar med en gemensam samling fredag 5 juni kl 10.45. på Johannesbergs GK.  Se gärna till att komma i god tid så du hinner med några övningsbollar och kanske en kopp kaffe. Första boll slår ut kl 11:00\, startlistan skickas ut några dagar i förväg. På lördag 6 juni är första start kl.10.10. \nVi spelar en lättsam poäng-bogey båda dagarna och belönar några goda resultat. Anmälan gör du här på sidan. Fyll i om du behöver skjuts eller om du kan skjutsa någon så blir det lättare för alla som vill att hänga med!!  \nObs! Det finns endast 24 platser\, så först till kvarn gäller som vanligt. Resan är öppen för medlemmar i Björklidens GK. Anmälan: Klubbresa till Johannesbergs GK 5-6 juni. \nKontaktpersoner: Jarl Klang 0708-343534 jarl.klang@mail.com och Jan Ulrich 073-8113214\, jano.ulrich@outlook.com. \nVälkommen att hänga på du med! \nBjörklidens Golfklubb
URL:https://www.bjorklidensgolfklubb.se/event/antligen-golfresa-till-johannesbergs-gk-och-slott-med-overnattning/
CATEGORIES:60+,Aktiviteter,Inlägg,Nöjen,Nyheter,Resor,Senaste Nytt
ATTACH;FMTTYPE=image/png:https://www.bjorklidensgolfklubb.se/wp-content/uploads/2024/05/Johannesberg-bilder.png
END:VEVENT
BEGIN:VEVENT
DTSTART;TZID=Europe/Stockholm:20260724T120000
DTEND;TZID=Europe/Stockholm:20260731T170000
DTSTAMP:20260422T120432
CREATED:20260419T122304Z
LAST-MODIFIED:20260419T122305Z
UID:51182-1784894400-1785517200@www.bjorklidensgolfklubb.se
SUMMARY:Äntligen dags att boka årets klubbresa till Björkliden 24/7 - 31/7!
DESCRIPTION:Nu är planeringen för årets fjällvecka till Björkliden\, Lappland 24/7 – 31/7 i full gång. Som vanligt kommer aktivitetsveckan till klubbens nordligaste bana att handla om fjällaktiviteter\, träffa gamla och nya vänner och naturligtvis golf i olika former. Klubben har redan reserverat ett antal stugor som vi hoppas kunna fylla med förväntansfulla deltagare. Pris för inkvartering i stuga och golf dygnet runt på Björklidenbanan är 1900: – per person\, 7 nätter. Stannar du en natt kortare t.ex reser upp med tåg\, eller längre får du dra av eller lägga till 300:- per natt.  \n\n\n\nVi kommer som vanligt att göra en del utflykter i närområdet och eventuellt även göra ett besök i Norge till Narviks golfbana om tillräckligt stort intresse finns. Vid sidan av golf finns det goda möjligheter att göra vandringar i närområdet som till toppstugan Låkktatjåkko\, Trollsjön eller varför inte göra en fisketur i vildmarken. Programmet innehåller naturligtvis mycket spontangolf men också flera avslappade tävlingar\, som en lag- och en partävling\, Arctic Solo och Björklidenmästerskapet.  \n\n\n\nBokning av resa till Björkliden görs och betalas individuellt. Nedan finns förslag med tåg och flyg. Tåg från Stockholms central direkt till Björkliden är normalt det enklaste och billigaste alternativet\, bokar gör du lättast på SJ.se. Tänk på att  efterfrågan kommer vara stor på liggplatser och antalet är begränsat\, dessutom ökar priset närmare avgång. Viktigt att vara snabb här. För information kör Länstrafiken bussar dagligen mellan Kiruna flygplats avg.16.00 – Björkliden ank.17.25. och Björkliden avg. 11.10 – Kiruna flygplats ank.12.40. \n\n\n\nResan är öppen för medlemmar i Björklidens Golfklubb och det finns 25 platser förbokade i stuga. Om du har någon medföljande som inte är medlem i klubben eller tänker stanna kortare eller längre tid\, så maila reseledarna. Sista dag för anmälan är 22 juni men boka snabbt om du är intresserad.  \n\n\n\nFörslag på flyg med SAS \n\n\n\n\n24 juli. SAS avresa Arlanda 13:20 ank. Kiruna 14:55  Busstransfer från Kiruna flygplats 16.00\n\n\n\n31 juli. Busstransfer från Björkliden 11.10. Flyg med SAS avresa Kiruna 15:25 ank. Arlanda 17:00.\n\n\n\nSe till att du bokar din resa med Low Fare+ samt golfutrustning (750 SEK)\n\n\n\n\nFörslag finns även med Norwegian – men smidig busstransfer saknas \n\n\n\nRekommenderad tågresa till/från Björkliden som bokas individuellt    \n\n\n\n\nTåg SJ liggvagn avresa Stockholm 23 juli 18.11 ank. Björkliden 24 juli 11.19 OBS! byte i Boden.\n\n\n\nTåg SJ liggvagn avresa Björkliden 31 juli 16.30 ank. Stockholm 1 augusti 10.13\n\n\n\n\nFör anmälan\, bokning och betalning av plats i stuga och golf följ länken nedan men säkra först din resa med tåg/flyg så du ordnat transport. Ange också hur du tar dig mellan Flygplatsen och Björkliden samt vem/vilka du vill dela stuga med. Rum finns också att boka på hotellet men är betydligt dyrare (0980-64100).   \n\n\n\nJag anmäler mig till Fjällresan/ är intresserad  \n\n\n\nOBS! För dig som inte har bestämt dig än men troligen är intresserad av att följa med anmäl ditt intresse så tar någon av reseledarna kontakt med dig och ger svar på dina frågor. \n\n\n\nReseledare Jarl Klang (jarl.klang@mail.com) och Ginger Flärvall (flarvall@gmail.com). \n\n\n\nVälkommen med på fjällresan! \n\n\n\nBjörklidens Golfklubb
URL:https://www.bjorklidensgolfklubb.se/event/antligen-dags-att-boka-arets-klubbresa-till-bjorkliden-24-7-31-7/
CATEGORIES:Aktiviteter,Inlägg,Nöjen,Nyheter,Resor,Senaste Nytt
ATTACH;FMTTYPE=image/jpeg:https://www.bjorklidensgolfklubb.se/wp-content/uploads/2023/12/455_Bjorkliden_View_jacobsjoman_LOWRes.jpg
END:VEVENT
END:VCALENDAR