BEGIN:VCALENDAR
VERSION:2.0
PRODID:-//Björklidens Golfklubb - ECPv6.15.20//NONSGML v1.0//EN
CALSCALE:GREGORIAN
METHOD:PUBLISH
X-WR-CALNAME:Björklidens Golfklubb
X-ORIGINAL-URL:https://www.bjorklidensgolfklubb.se
X-WR-CALDESC:Händelser för Björklidens Golfklubb
REFRESH-INTERVAL;VALUE=DURATION:PT1H
X-Robots-Tag:noindex
X-PUBLISHED-TTL:PT1H
BEGIN:VTIMEZONE
TZID:Europe/Stockholm
BEGIN:DAYLIGHT
TZOFFSETFROM:+0100
TZOFFSETTO:+0200
TZNAME:CEST
DTSTART:20250330T010000
END:DAYLIGHT
BEGIN:STANDARD
TZOFFSETFROM:+0200
TZOFFSETTO:+0100
TZNAME:CET
DTSTART:20251026T010000
END:STANDARD
BEGIN:DAYLIGHT
TZOFFSETFROM:+0100
TZOFFSETTO:+0200
TZNAME:CEST
DTSTART:20260329T010000
END:DAYLIGHT
BEGIN:STANDARD
TZOFFSETFROM:+0200
TZOFFSETTO:+0100
TZNAME:CET
DTSTART:20261025T010000
END:STANDARD
BEGIN:DAYLIGHT
TZOFFSETFROM:+0100
TZOFFSETTO:+0200
TZNAME:CEST
DTSTART:20270328T010000
END:DAYLIGHT
BEGIN:STANDARD
TZOFFSETFROM:+0200
TZOFFSETTO:+0100
TZNAME:CET
DTSTART:20271031T010000
END:STANDARD
END:VTIMEZONE
BEGIN:VEVENT
DTSTART;TZID=Europe/Stockholm:20260322T090000
DTEND;TZID=Europe/Stockholm:20260322T120000
DTSTAMP:20260422T121816
CREATED:20260227T192038Z
LAST-MODIFIED:20260227T221904Z
UID:50435-1774170000-1774180800@www.bjorklidensgolfklubb.se
SUMMARY:Björkliden World Tour - sista deltävlingen innan finalen spelas 22 mars
DESCRIPTION:Den prestigefyllda Björkliden World Tour inomhus är i full gång. En söndag i månaden från november till mars spelar vi en av de välkända och utmanande banorna runt vårt klot i Europa\, USA och Asien. \n \nDet arrangeras 5 tävlingstillfällen och BWT avslutas i april med stor final på Royal County Down Golf Club\, Nordirland. Till finalen går de som efter samtliga omgångar har samlat mest poäng\, varav de tre bästa resultaten räknas. 24 platser finns att spela om.  \n \nDen sista deltävlingen innan finalen spelas på PGA West\, Nicklaus Tournament Course\, söndagen 22 mars kl 09.00-12.00. \n\n \n\nVi är max 3 spelare per bana\, herrar och damer blandat. Alla mattor har Trackman installerade\, vilket garanterar fina förutsättningar för en rättvis och inspirerande golfupplevelse. Samling för genomgång är 08:50. Start av tävlingen 09:00 som avslutas 12:00. Tävlingen genomförs med automatputtning och aktuellt handicap reduceras med 50 %. Pris 200 kr per deltagare och omgång.\n \nAnmälan till deltävlingen i BWT den 22 mars gör du här. Vid fullbokat så ställ dig på väntelista\, eventuellt tillkommer fler platser. \n \n\n\nSpelplatsen är Scratch golf\, Ekbacksvägen 32 i Bromma. Parkering finns på bak- och framsidan av byggnaden. På framsidan kostar det 5 kr timmen. På baksidan finns några gratisplatser men glöm inte p-skivan i bilfönstret.\n\n\n\n \n\nVälkommen och lycka till!\n\n\n\nBjörklidens Golfklubb
URL:https://www.bjorklidensgolfklubb.se/event/ny-sasong-for-bjorkliden-world-tour-inomhus-start-23-november/
CATEGORIES:Aktiviteter,Inlägg,Nyheter,Senaste Nytt,Tävling
ATTACH;FMTTYPE=image/png:https://www.bjorklidensgolfklubb.se/wp-content/uploads/2024/01/Scratcgolf-PGA-4.png
END:VEVENT
BEGIN:VEVENT
DTSTART;TZID=Europe/Stockholm:20260324T180000
DTEND;TZID=Europe/Stockholm:20260324T200000
DTSTAMP:20260422T121816
CREATED:20240214T145005Z
LAST-MODIFIED:20260131T090132Z
UID:47568-1774375200-1774382400@www.bjorklidensgolfklubb.se
SUMMARY:Kallelse till årsmöte i Björklidens Golfklubb
DESCRIPTION:Tisdag 24 mars 2026\, Bishops Arms\, Landsvägen 49 Sundbyberg.Från kl 17.00 serveras kaffe & smörgås! Årsmötet börjar kl 18.00. \nMotioner till årsmötet skall vara inlämnade senast 20 dagar i förväg dvs 4 mars\, dessa skickas till info@bjorklidensgolfklubb.se. \nAnmäl dig här senast den 20 mars att du kommer så vi kan förbereda röstlängd och mackor. \nPlanläggningen av årets klubbaktiviteter har pågått sedan tidigt i höstas. Klubbens styrelse har tagit beslut att fortsatt vara offensiv för att vara ett attraktivt alternativ för de golfare som söker en aktiv klubb som satsar både på golf och många sociala aktiviteter. Det innebär bl.a. ett attraktivt tävlingsprogram\, att arrangera ett större utbud av sociala aktiviteter och resor samt bedriva en större utbildningsverksamhet. Vidare har klubben inför 2026 breddat medlemsformerna för att fler medlemmar ska kunna dra fördel av klubbens många aktiviteter. Klubben kommer under året också lägga resurser på att stärka relationen till såväl gamla som nya golfare för att säkra klubbens långsiktiga verksamhet. Kom gärna och gör din stämma hörd. \nStyrelsen \nBjörklidens Golfklubb
URL:https://www.bjorklidensgolfklubb.se/event/kallelse-till-arsmote-bjorklidens-golfklubb-2/
CATEGORIES:Aktiviteter,Inlägg,Nyheter,Senaste Nytt
ATTACH;FMTTYPE=image/gif:https://www.bjorklidensgolfklubb.se/wp-content/uploads/2021/02/arsmote.gif
END:VEVENT
BEGIN:VEVENT
DTSTART;TZID=Europe/Stockholm:20260325T170000
DTEND;TZID=Europe/Stockholm:20260325T190000
DTSTAMP:20260422T121816
CREATED:20251029T120357Z
LAST-MODIFIED:20260319T164558Z
UID:50345-1774458000-1774465200@www.bjorklidensgolfklubb.se
SUMMARY:Sällskapsgolf för gemensam Dam- och Mixgrupp på Scratch - 25 mars
DESCRIPTION:Precis som förra året kör vi 2-timmarspass med två deltagare på varje matta och med Trackman golfsimulatorer på alla mattor. Genom ditt medlemskap i Björklidens GK får du alltid tillgång till de bästa priserna. Bokningen öppnar normalt torsdag-fredag för kommande veckas spel.     \n\n\n\nSällskapsgolf\, sammanslagen Dam- och MixgruppDam- och Mixgruppen\, dam/herr 17.00 – 19.00 pris 200:-/person  \n\n\n\nHär bokar du din plats till sällskapsspel 25 mars 2026  \n\n\n\nFör att allt ska flyta bra bör du vara på plats redan en kvart innan speltiden dvs 16:45. Då får du tid att värma upp och hitta din matta och mattkamrat. Parkering finns både på bak och framsidan\, på framsidan kostar det 5 kr timmen. På baksidan finns några få gratisparkeringar\, men glöm inte p-skivan i bilfönstret. \n\n\n\n \n\n\n\nHäng på nu du också och kom med i gänget! \n\n\n\nGinger och Berit samt Jan och Jarl \n\n\n\nBjörklidens Golfklubb \n\n\n\n \n\n\n\nHur du hittar till Scratch Golf:Scratch Golf\, Ekbacksvägen 32 (tvärgata till Norrbyvägen) i Bromma. Det går även att nyttja tvärbanan hållplats Norra Ulvsunda eller buss 129\, Ekbacksvägen alt. Buss 176 eller 177\, Norrbyvägen.
URL:https://www.bjorklidensgolfklubb.se/event/antligen-dags-for-inomhusgolf-pa-scratchgolf/
CATEGORIES:60+,Inlägg,Nyheter,Senaste Nytt,Träning
ATTACH;FMTTYPE=image/png:https://www.bjorklidensgolfklubb.se/wp-content/uploads/2024/03/Damer-scratchgolf.png
END:VEVENT
END:VCALENDAR