BEGIN:VCALENDAR
VERSION:2.0
PRODID:-//Björklidens Golfklubb - ECPv6.15.20//NONSGML v1.0//EN
CALSCALE:GREGORIAN
METHOD:PUBLISH
X-WR-CALNAME:Björklidens Golfklubb
X-ORIGINAL-URL:https://www.bjorklidensgolfklubb.se
X-WR-CALDESC:Händelser för Björklidens Golfklubb
REFRESH-INTERVAL;VALUE=DURATION:PT1H
X-Robots-Tag:noindex
X-PUBLISHED-TTL:PT1H
BEGIN:VTIMEZONE
TZID:Europe/Stockholm
BEGIN:DAYLIGHT
TZOFFSETFROM:+0100
TZOFFSETTO:+0200
TZNAME:CEST
DTSTART:20240331T010000
END:DAYLIGHT
BEGIN:STANDARD
TZOFFSETFROM:+0200
TZOFFSETTO:+0100
TZNAME:CET
DTSTART:20241027T010000
END:STANDARD
BEGIN:DAYLIGHT
TZOFFSETFROM:+0100
TZOFFSETTO:+0200
TZNAME:CEST
DTSTART:20250330T010000
END:DAYLIGHT
BEGIN:STANDARD
TZOFFSETFROM:+0200
TZOFFSETTO:+0100
TZNAME:CET
DTSTART:20251026T010000
END:STANDARD
BEGIN:DAYLIGHT
TZOFFSETFROM:+0100
TZOFFSETTO:+0200
TZNAME:CEST
DTSTART:20260329T010000
END:DAYLIGHT
BEGIN:STANDARD
TZOFFSETFROM:+0200
TZOFFSETTO:+0100
TZNAME:CET
DTSTART:20261025T010000
END:STANDARD
END:VTIMEZONE
BEGIN:VEVENT
DTSTART;TZID=Europe/Stockholm:20251207T160000
DTEND;TZID=Europe/Stockholm:20251207T200000
DTSTAMP:20260422T175547
CREATED:20251101T082744Z
LAST-MODIFIED:20251204T150732Z
UID:50379-1765123200-1765137600@www.bjorklidensgolfklubb.se
SUMMARY:Julbord med Björklidens GK på Engelen 7 dec. - 3 NYA platser finns
DESCRIPTION:Välkommen att fira jul med Björklidens GK söndag 7 december kl 16.00 på Engelen\, Kornhamnstorg 59 B\, Gamla Stan i Stockholm. \nJulbordet i matsalen på Engelen är en oförglömlig upplevelse\, där det dukas upp ett klassiskt julbord och en stor portion julstämning. \nEfter glöggminglet serveras de traditionella svenska julrätterna\, både varma och kalla samt efterrättsbord med desserter och julgodis i mängder. Ät\, drick och umgås med glada klubbkamrater! \nFör den som önskar en extra dessert bjuds det på liveunderhållning i puben lite senare. Till Gamla stan tar du dig lättast med T-banan. \nBjörklidens 40-årsjubileum 2025 avrundas med denna julklapp till alla medlemmar: Subventionerat julbordspris inklusive 2 öl/vin/alkoholfritt endast 525:-/medlem Oslagbart! Vill du ta med gäst som inte är klubbmedlem är kostnaden 720:-. Anmälan och betalning här på sidan senast 1/12. Vid eventuell avanmälan efter anmälningstidens utgång kan anmälningsavgiften inte återbetalas. Platsen kan dock överlåtas till annan medlem. \nBokning och betalning gör du här\, Julbord med Björkliden på Engelen 7 december \nGod JUL & Välkommen! \nBjörklidens golfklubb
URL:https://www.bjorklidensgolfklubb.se/event/julbord-med-bjorklidens-gk-pa-engelen/
CATEGORIES:60+,Aktiviteter,Inlägg,Nöjen,Nyheter,Senaste Nytt
ATTACH;FMTTYPE=image/jpeg:https://www.bjorklidensgolfklubb.se/wp-content/uploads/2024/10/engelen-jul.jpg
END:VEVENT
END:VCALENDAR