BEGIN:VCALENDAR
VERSION:2.0
PRODID:-//Björklidens Golfklubb - ECPv6.15.20//NONSGML v1.0//EN
CALSCALE:GREGORIAN
METHOD:PUBLISH
X-WR-CALNAME:Björklidens Golfklubb
X-ORIGINAL-URL:https://www.bjorklidensgolfklubb.se
X-WR-CALDESC:Händelser för Björklidens Golfklubb
REFRESH-INTERVAL;VALUE=DURATION:PT1H
X-Robots-Tag:noindex
X-PUBLISHED-TTL:PT1H
BEGIN:VTIMEZONE
TZID:Europe/Stockholm
BEGIN:DAYLIGHT
TZOFFSETFROM:+0100
TZOFFSETTO:+0200
TZNAME:CEST
DTSTART:20240331T010000
END:DAYLIGHT
BEGIN:STANDARD
TZOFFSETFROM:+0200
TZOFFSETTO:+0100
TZNAME:CET
DTSTART:20241027T010000
END:STANDARD
BEGIN:DAYLIGHT
TZOFFSETFROM:+0100
TZOFFSETTO:+0200
TZNAME:CEST
DTSTART:20250330T010000
END:DAYLIGHT
BEGIN:STANDARD
TZOFFSETFROM:+0200
TZOFFSETTO:+0100
TZNAME:CET
DTSTART:20251026T010000
END:STANDARD
BEGIN:DAYLIGHT
TZOFFSETFROM:+0100
TZOFFSETTO:+0200
TZNAME:CEST
DTSTART:20260329T010000
END:DAYLIGHT
BEGIN:STANDARD
TZOFFSETFROM:+0200
TZOFFSETTO:+0100
TZNAME:CET
DTSTART:20261025T010000
END:STANDARD
END:VTIMEZONE
BEGIN:VEVENT
DTSTART;TZID=Europe/Stockholm:20250926T090000
DTEND;TZID=Europe/Stockholm:20250926T153000
DTSTAMP:20260421T224954
CREATED:20250909T092338Z
LAST-MODIFIED:20250909T094046Z
UID:50045-1758877200-1758900600@www.bjorklidensgolfklubb.se
SUMMARY:Årets sista dagsutflykt går till Waxholms charmiga 18-hålsbana - 26 september
DESCRIPTION:Följ med på dagsresa fredagen den 26 september som denna gång går till Waxholms omväxlande och trevliga 18-hålsbana. Utflykten är som vanligt öppen endast för medlemmar i Björklidens GK. \nFrån 09:00 serveras kaffe och fralla med ost i restaurangen och 09:45 samlas vi för en kort genomgång innan spelet börjar\, första start är 10:00. Vi spelar en lättsam poängbogey både individuellt och i lag.  \nEfter 9 hål bjuds på korv och dricka innan vi avslutar rundan med de sista 9 hålen. Efter färdig runda håller vi som vanligt en liten prisutdelning och belönar några goda resultat innan vi trötta men glada\, beger oss hem.  \nDeltagaravgiften är 100 kr/person om du har fritt spel på Golfstar Waxholm 18-hålsbana i ditt medlemskap\, Har du inte det tillkommer greenfee som gäst till medlem 600:-\, totalt 700:-. 24 platser finns tillgängliga och först till kvarn gäller som vanligt\, sista dag för anmälan är 23 september.   \nObservera att inbetald deltagaravgift inte kan återbetalas vid avbokning efter 23 september\, däremot kan du överlåta din plats till någon annan intresserad i klubben.  \nAnmälan till Waxholm gör du via denna länk\, se till att din anmälan blir korrekt ifylld så du blir anmäld och inte heller missar viktig information.  \nKontaktpersoner: Ginger Flärvall 070-421 60 49 flarvall@gmail.com och Jan Ulrich 073-811 32 14\, jano.ulrich@outlook.com.  \nHäng med du också! \nBjörklidens Golfklubb
URL:https://www.bjorklidensgolfklubb.se/event/arets-sista-dagsutflykt-gar-till-waxholms-charmiga-18-halsbana-26-september/
CATEGORIES:60+,Aktiviteter,Inlägg,Nöjen,Nyheter,Resor,Senaste Nytt,Tävling
ATTACH;FMTTYPE=image/png:https://www.bjorklidensgolfklubb.se/wp-content/uploads/2025/09/Waxholm-bild.png
END:VEVENT
END:VCALENDAR