BEGIN:VCALENDAR
VERSION:2.0
PRODID:-//Björklidens Golfklubb - ECPv6.15.20//NONSGML v1.0//EN
CALSCALE:GREGORIAN
METHOD:PUBLISH
X-ORIGINAL-URL:https://www.bjorklidensgolfklubb.se
X-WR-CALDESC:Händelser för Björklidens Golfklubb
REFRESH-INTERVAL;VALUE=DURATION:PT1H
X-Robots-Tag:noindex
X-PUBLISHED-TTL:PT1H
BEGIN:VTIMEZONE
TZID:Europe/Stockholm
BEGIN:DAYLIGHT
TZOFFSETFROM:+0100
TZOFFSETTO:+0200
TZNAME:CEST
DTSTART:20250330T010000
END:DAYLIGHT
BEGIN:STANDARD
TZOFFSETFROM:+0200
TZOFFSETTO:+0100
TZNAME:CET
DTSTART:20251026T010000
END:STANDARD
BEGIN:DAYLIGHT
TZOFFSETFROM:+0100
TZOFFSETTO:+0200
TZNAME:CEST
DTSTART:20260329T010000
END:DAYLIGHT
BEGIN:STANDARD
TZOFFSETFROM:+0200
TZOFFSETTO:+0100
TZNAME:CET
DTSTART:20261025T010000
END:STANDARD
BEGIN:DAYLIGHT
TZOFFSETFROM:+0100
TZOFFSETTO:+0200
TZNAME:CEST
DTSTART:20270328T010000
END:DAYLIGHT
BEGIN:STANDARD
TZOFFSETFROM:+0200
TZOFFSETTO:+0100
TZNAME:CET
DTSTART:20271031T010000
END:STANDARD
END:VTIMEZONE
BEGIN:VEVENT
DTSTART;TZID=Europe/Stockholm:20260318T180000
DTEND;TZID=Europe/Stockholm:20260318T210000
DTSTAMP:20260422T155116
CREATED:20251105T205742Z
LAST-MODIFIED:20260301T213715Z
UID:50425-1773856800-1773867600@www.bjorklidensgolfklubb.se
SUMMARY:Shuffleboard på Jolo's 18 mars
DESCRIPTION:Dags för en repris på vår lyckade kväll i höstas med shuffleboard. Vi träffas på Jolo´s\, onsdagen den 18 mars kl.18.00\, Västmannagatan 50 i Stockholm (nära T-bana Odenplan). Vi utmanar då varandra i den kravlösa tävlingen shuffleboard i lottade 2-mannalag. \n \nShuffleboard – en sorts kombination av curling och bowling\, fast på ett halt och nysandat bord. Alla kan vara med\, både nybörjare och vana glidare. Efter den lättsamma tävlingen följer en gemensam middag. Välj mellan Jolo-burgare eller Vegansk No chicken burgare\, samt en öl/ett glas husets vin eller alkoholfritt. \n \nkl 18.00   Incheckning\nKl 18.10   Start av Shuffle\, instruktion\, lagindelning och start av spel.\nKl 19.00  Avslut av spel\, och kort därefter middag med tillfälle att diskutera våra bländande framsteg och kanske belöna några….\n \nPriset för Björklidens GK:s medlemmar för spel och middag inklusive dryck är endast 275:-\, som vanligt ordentligt subventionerat av klubben. Först till kvarn gäller som vanligt. Bokningen stänger 11 mars. \n \nBokning och betalning för Shufflekvällen gör du här\,  \nVarmt välkommen!. \nBjörklidens golfklubb
URL:https://www.bjorklidensgolfklubb.se/event/shuffleboard-pa-jolos/
CATEGORIES:Aktiviteter,Inlägg,Nöjen,Nyheter
ATTACH;FMTTYPE=image/jpeg:https://www.bjorklidensgolfklubb.se/wp-content/uploads/2025/11/Schuffleboard.jpg
END:VEVENT
END:VCALENDAR