BEGIN:VCALENDAR
VERSION:2.0
PRODID:-//Björklidens Golfklubb - ECPv6.15.20//NONSGML v1.0//EN
CALSCALE:GREGORIAN
METHOD:PUBLISH
X-WR-CALNAME:Björklidens Golfklubb
X-ORIGINAL-URL:https://www.bjorklidensgolfklubb.se
X-WR-CALDESC:Händelser för Björklidens Golfklubb
REFRESH-INTERVAL;VALUE=DURATION:PT1H
X-Robots-Tag:noindex
X-PUBLISHED-TTL:PT1H
BEGIN:VTIMEZONE
TZID:Europe/Stockholm
BEGIN:DAYLIGHT
TZOFFSETFROM:+0100
TZOFFSETTO:+0200
TZNAME:CEST
DTSTART:20240331T010000
END:DAYLIGHT
BEGIN:STANDARD
TZOFFSETFROM:+0200
TZOFFSETTO:+0100
TZNAME:CET
DTSTART:20241027T010000
END:STANDARD
BEGIN:DAYLIGHT
TZOFFSETFROM:+0100
TZOFFSETTO:+0200
TZNAME:CEST
DTSTART:20250330T010000
END:DAYLIGHT
BEGIN:STANDARD
TZOFFSETFROM:+0200
TZOFFSETTO:+0100
TZNAME:CET
DTSTART:20251026T010000
END:STANDARD
BEGIN:DAYLIGHT
TZOFFSETFROM:+0100
TZOFFSETTO:+0200
TZNAME:CEST
DTSTART:20260329T010000
END:DAYLIGHT
BEGIN:STANDARD
TZOFFSETFROM:+0200
TZOFFSETTO:+0100
TZNAME:CET
DTSTART:20261025T010000
END:STANDARD
END:VTIMEZONE
BEGIN:VEVENT
DTSTART;TZID=Europe/Stockholm:20250312T170000
DTEND;TZID=Europe/Stockholm:20250312T210000
DTSTAMP:20260423T100727
CREATED:20240509T121758Z
LAST-MODIFIED:20250304T142329Z
UID:47813-1741798800-1741813200@www.bjorklidensgolfklubb.se
SUMMARY:Golfträning för damer och mixgruppen med Johan på ScratchGolf -  12 mars!
DESCRIPTION:För att vi alla ska komma i bra form inför kommande golfsäsong  erbjuder klubben ett antal subventionerade träningstillfällen för damer och herrar som är medlemmar i Björklidens golfklubb:  \nTränare är allas vår Johan Almgren och det blir träning en onsdag varje månad den 27/11\, 11/12\, 15/1 12/2 och den 12/3. Dessa onsdagar kan man inte boka in sig för vanligt spel utan det är träning som gäller.  \n\nDamer mellan 17:00 och 19:00.\nMix damer/herrar mellan 19:00 och 21:00.\n\nFör att träningen ska flyta bra  bör du vara på plats redan en kvart innan träningstiden dvs 16:45 för damer och 18:45 för herrar.  Då får du tid att värma upp och hitta din matta och mattkamrat. Det är en timme träning + en timme fritt spel. \nKostnad inklusive matta är 200 kr per person och tillfälle. Som vanligt är vi två personer på varje matta. Bokningen sker som vanligt och vi använder oss av våra förbokade tider på onsdagar. \nParkering finns både på bak och framsidan\, på framsidan kostar det 5 kr timmen. På baksidan finns några få gratisparkeringar\, men glöm inte p-skivan i bilfönstret. \nHäng på nu du också och kom med i gänget länk till bokningen 12 mars \nHjärtligt välkomna!  \nGinger och Britta  \nBjörklidens Golfklubb \nOm du har undringar om träningen så ring 070-4216049 eller messa (Ginger).  \n      Ha en fortsatt underbar vinter och vår! \n       Ginger  \nAnsvarig för damsektionen i Björklidens Golfklubb
URL:https://www.bjorklidensgolfklubb.se/event/47813/
CATEGORIES:60+,Aktiviteter,Inlägg,Nöjen,Nyheter,Träning
ATTACH;FMTTYPE=image/jpeg:https://www.bjorklidensgolfklubb.se/wp-content/uploads/2020/02/d9ceb949-96a3-43e1-b22f-7ec449ee4825-2.jpg
END:VEVENT
BEGIN:VEVENT
DTSTART;TZID=Europe/Stockholm:20250316T084500
DTEND;TZID=Europe/Stockholm:20250316T120000
DTSTAMP:20260423T100727
CREATED:20231230T224300Z
LAST-MODIFIED:20250305T055419Z
UID:46224-1742114700-1742126400@www.bjorklidensgolfklubb.se
SUMMARY:Björkliden World Tour inomhus i samarbete med Scratch golf - nästa 16 mars!
DESCRIPTION:Nu har vi startat vinterns stora tävling Björkliden World Tour (BWT) i samarbete med Scratch Golf. En söndag i månaden från november till mars spelar vi någon av de välkända och utmanande banorna runt vår hela vårt klot som även de stora tourerna besöker i Europa\, USA och Asien.  \nDet arrangeras 4 tävlingstillfällen i november\, januari\, februari och mars\, varav de 3 bästa resultaten räknas. Final i April på Pebble Beach Golf Club. Till den avslutande finalen i april går de som efter alla omgångar har samlat mest poäng\, 20 spelare blir kvalificerade. Sista deltävlingen innan finalen i BWT – Björkliden World Tour\, spelas på Le Golf National i Paris den 16/3 kl. 9-12.  \nI och med att det finns några färre mattor (Star Track) i år att spela på denna säsong\, så utökar vi möjligheten till att delta genom att du kan även spela månadens tävlingsbana under någon av våra träningstillfällen veckan efter. Utnyttjas den möjligheten\, måste ronden anmälas till tävlingsledningen på plats eller (jano.ulrich@outlook.com) \nVi är max 3 spelare per bana\, herrar och damer blandat. Pris 150 kr per deltagare och omgång. Samling för genomgång är 08:45. Start av tävlingen är 09:00 och avslutas 12:00. Tävlingen genomförs med automatputtning och aktuellt handicap reduceras med 50 % pga puttning/lätta bunkrar. Spelplatsen är Scratch golf\, Ekbacksvägen 32 i Bromma. \nParkering finns både på bak- och framsidan av byggnaden. På framsidan kostar det 5 kr timmen. På baksidan finns några gratisplatser men glöm inte p-skivan i bilfönstret. \nVälkommen! \nBjörklidens Golfklubb \nAnmälan till sista deltävlingen i BWT den 16 mars gör du här.  \nBokningen till kommande deltävling läggs ut i anslutning till att den föregående har spelats. \nVälkommen! \nBjörklidens Golfklubb
URL:https://www.bjorklidensgolfklubb.se/event/bjorkliden-startar-inomhus-pga-tour-den-15-januari/
LOCATION:Scratch Golf\, Ekbacksvägen 32\, Bromma\, Sverige
CATEGORIES:Aktiviteter,Inlägg,Nöjen,Nyheter,Senaste Nytt,Tävling
ATTACH;FMTTYPE=image/png:https://www.bjorklidensgolfklubb.se/wp-content/uploads/2023/12/japan-golf.png
END:VEVENT
BEGIN:VEVENT
DTSTART;TZID=Europe/Stockholm:20250318T180000
DTEND;TZID=Europe/Stockholm:20250318T200000
DTSTAMP:20260423T100727
CREATED:20240307T082221Z
LAST-MODIFIED:20250313T121112Z
UID:47620-1742320800-1742328000@www.bjorklidensgolfklubb.se
SUMMARY:MIXgruppen på Scratchgolf\, spel varje tisdag - nästa 18 mars
DESCRIPTION:Vi träffas varje tisdag 18-20 och spelar en kul bana under perfekta förhållanden och kaffe inom synhåll. Gruppen passar damer\, herrar\, seniorer\, juniorer\, nybörjare och mer rutinerade – och är en möjlighet för alla som inte har tid med golfspel dagtid. \n\n\n\nDu bör vara på plats redan 17:45 för att få instruktioner och veta vem du ska spela med. I möjligaste mån kommer du att få spela med någon motsvarande din spelnivå. Vi blir två på varje matta för mest möjliga golfspel och som garanterar att vi hinner runt vår bana. Det finns  för närvarande 18 höger och 2 vänsterplatser. Kostnaden är 150 :- per person och per tillfälle.  \n\n\n\nBokningen öppnar normalt på torsdag-fredag för kommande vecka och stänger på söndag kväll kl. 19.00. Mixgruppen – öppen för alla medlemmar i Björklidens GK! \n\n\n\nBoka gör du här: Mixträning inomhus nästa 18 mars 18-20  \n\n\n\nParkering finns både på bak och framsidan\, på framsidan kostar det 5 kr timmen. På baksidan finns några få gratisparkeringar\, men glöm inte p-skivan i bilfönstret. \n\n\n\nMycket välkomna//Jarl och Jan U. \n\n\n\nBjörklidens Golfklubb \n\n\n\nHur du hittar till Scratch Golf:Scratch Golf\, Ekbacksvägen 32 (tvärgata till Norrbyvägen) i Bromma. Parkering finns både på bak- och framsida av huset. Det går även att nyttja tvärbanan hållplats Norra Ulvsunda eller buss 129\, Ekbacksvägen alt. Buss 176 eller 177\, Norrbyvägen.
URL:https://www.bjorklidensgolfklubb.se/event/nu-startar-vi-mixgruppen-pa-scratchgolf-spel-varje-tisdag-nasta-12-mars/
CATEGORIES:Aktiviteter,Nöjen,Nyheter,Träning
ATTACH;FMTTYPE=image/png:https://www.bjorklidensgolfklubb.se/wp-content/uploads/2024/01/Scratcgolf-PGA-4.png
END:VEVENT
END:VCALENDAR