BEGIN:VCALENDAR
VERSION:2.0
PRODID:-//Björklidens Golfklubb - ECPv6.15.20//NONSGML v1.0//EN
CALSCALE:GREGORIAN
METHOD:PUBLISH
X-ORIGINAL-URL:https://www.bjorklidensgolfklubb.se
X-WR-CALDESC:Händelser för Björklidens Golfklubb
REFRESH-INTERVAL;VALUE=DURATION:PT1H
X-Robots-Tag:noindex
X-PUBLISHED-TTL:PT1H
BEGIN:VTIMEZONE
TZID:Europe/Stockholm
BEGIN:DAYLIGHT
TZOFFSETFROM:+0100
TZOFFSETTO:+0200
TZNAME:CEST
DTSTART:20240331T010000
END:DAYLIGHT
BEGIN:STANDARD
TZOFFSETFROM:+0200
TZOFFSETTO:+0100
TZNAME:CET
DTSTART:20241027T010000
END:STANDARD
BEGIN:DAYLIGHT
TZOFFSETFROM:+0100
TZOFFSETTO:+0200
TZNAME:CEST
DTSTART:20250330T010000
END:DAYLIGHT
BEGIN:STANDARD
TZOFFSETFROM:+0200
TZOFFSETTO:+0100
TZNAME:CET
DTSTART:20251026T010000
END:STANDARD
BEGIN:DAYLIGHT
TZOFFSETFROM:+0100
TZOFFSETTO:+0200
TZNAME:CEST
DTSTART:20260329T010000
END:DAYLIGHT
BEGIN:STANDARD
TZOFFSETFROM:+0200
TZOFFSETTO:+0100
TZNAME:CET
DTSTART:20261025T010000
END:STANDARD
END:VTIMEZONE
BEGIN:VEVENT
DTSTART;TZID=Europe/Stockholm:20250207T180000
DTEND;TZID=Europe/Stockholm:20250207T220000
DTSTAMP:20260423T112925
CREATED:20241026T075752Z
LAST-MODIFIED:20250103T143145Z
UID:48552-1738951200-1738965600@www.bjorklidensgolfklubb.se
SUMMARY:Välkommen på 40-årsfest med Björklidens golfklubb!
DESCRIPTION:Fredag den 7 februari\, kl 18.00\, firar vi att klubben fyller 40 år 2025 på klubben Encore i Sundbyberg.! Du bjuds på välkomstdrink\, viltinspirerad tacobuffé\, öl/vin alt alkoholfritt som middagsdryck\, kaffe & tårta\, och skönt örongodis av Björkliden-medlemmen och Sveriges främsta gitarrist\, Janne Schaffer! Efter den exklusiva spelningen bjuder ett av Sveriges populäraste coverband – Rogge Roll Duo – upp till dans\, med godingar från dåtid till nutid.  \n\n\n\nDet blir en kväll du inte vill missa. Kom och hurra\, skåla\, sjung\, ät & drick\, umgås\, vinn i jubileumslotteriet\, segra i vår nya puttävling\, njut av härlig musik\, ta en svängom på dansgolvet… Fira tillsammans med andra festglada klubbkamrater.  \n\n\n\nEncore hittar du på Landsvägen 49 i Sundbyberg (entrén ligger vägg i vägg\, till höger om vår välkända pub Bishops Arms).    \n\n\n\nAllt detta för endast 395:-/medlem och som vanligt är starkt subventionerat av Björklidens golfklubb. Anmälan och betalning gör du här senast 31/1. \n\n\n\nSkynda på\, först till kvarn gäller som vanligt. Vid eventuell avanmälan efter anmälningstidens utgång kan anmälningsavgiften inte återbetalas. Du kan dock sälja/överlåta din plats till annan Björklidenmedlem. \n\n\n\nSkål & Välkommen! \n\n\n\nBjörklidens golfklubb
URL:https://www.bjorklidensgolfklubb.se/event/valkommen-pa-aw-och-pubkvall-med-bjorklidens-gk-pa-engelen-14-november/
CATEGORIES:Aktiviteter,Inlägg,Nöjen,Nyheter,Senaste Nytt
ATTACH;FMTTYPE=image/png:https://www.bjorklidensgolfklubb.se/wp-content/uploads/2024/10/40-ar.png
END:VEVENT
END:VCALENDAR