BEGIN:VCALENDAR
VERSION:2.0
PRODID:-//Björklidens Golfklubb - ECPv6.15.20//NONSGML v1.0//EN
CALSCALE:GREGORIAN
METHOD:PUBLISH
X-WR-CALNAME:Björklidens Golfklubb
X-ORIGINAL-URL:https://www.bjorklidensgolfklubb.se
X-WR-CALDESC:Händelser för Björklidens Golfklubb
REFRESH-INTERVAL;VALUE=DURATION:PT1H
X-Robots-Tag:noindex
X-PUBLISHED-TTL:PT1H
BEGIN:VTIMEZONE
TZID:Europe/Stockholm
BEGIN:DAYLIGHT
TZOFFSETFROM:+0100
TZOFFSETTO:+0200
TZNAME:CEST
DTSTART:20240331T010000
END:DAYLIGHT
BEGIN:STANDARD
TZOFFSETFROM:+0200
TZOFFSETTO:+0100
TZNAME:CET
DTSTART:20241027T010000
END:STANDARD
BEGIN:DAYLIGHT
TZOFFSETFROM:+0100
TZOFFSETTO:+0200
TZNAME:CEST
DTSTART:20250330T010000
END:DAYLIGHT
BEGIN:STANDARD
TZOFFSETFROM:+0200
TZOFFSETTO:+0100
TZNAME:CET
DTSTART:20251026T010000
END:STANDARD
BEGIN:DAYLIGHT
TZOFFSETFROM:+0100
TZOFFSETTO:+0200
TZNAME:CEST
DTSTART:20260329T010000
END:DAYLIGHT
BEGIN:STANDARD
TZOFFSETFROM:+0200
TZOFFSETTO:+0100
TZNAME:CET
DTSTART:20261025T010000
END:STANDARD
END:VTIMEZONE
BEGIN:VEVENT
DTSTART;TZID=Europe/Stockholm:20250727T080000
DTEND;TZID=Europe/Stockholm:20250803T170000
DTSTAMP:20260421T224947
CREATED:20240516T123950Z
LAST-MODIFIED:20250508T074812Z
UID:47885-1753603200-1754240400@www.bjorklidensgolfklubb.se
SUMMARY:Dags att boka klubbresan till Björkliden Lappland 27 juli - 3 augusti
DESCRIPTION:Nu har vi börjat planera för årets fjällvecka i Björkliden\, Lappland. Som vanligt kommer aktivitetsveckan till klubbens nordligaste bana att handla om allt mellan fjällvandring\, träffa gamla och nya vänner och naturligtvis golf i olika former. Klubben har redan reserverat ett antal stugor som vi hoppas kunna fylla med förväntansfulla deltagare. Pris för inkvartering i stuga och golf dygnet runt på Björklidenbanan är 1900: – per person\, 7 nätter. Stannar du en natt kortare t.ex reser upp med tåg\, eller längre får du dra av eller lägga till 300:- per natt. \n \nVi kommer som vanligt att göra en del utflykter i närområdet och förhoppningsvis även göra ett besök på Narviks fantastiska golfbana som vi besökt flera gånger. Vid sidan av golf finns det goda möjligheter att göra vandringar i närområdet som till toppstugan Låkktatjåkko\, Trollsjön eller varför inte göra en fisketur. Programmet innehåller naturligtvis mycket spontangolf men också flera avslappade tävlingar\, som en lag- och en partävling\, Arctic Solo\, Björklidenmästerskapet och en lättare Jubileumstävling för att fira Björklidens GK har fyllt 40 år. Mycket är dock upp till vädergudarna att de är med oss men vi är som vanligt mycket flexibla. \n \nDet är lätt att ta sig till Björkliden. Nedan finns förslag med tåg och flyg. Bokning av resa till Björkliden görs och betalas individuellt. Tåg från Stockholms central direkt till Björkliden är normalt det absolut enklaste alternativet men inte alltid det billigaste\, bokar gör du lättast på SJ.se eller Vy.se. Tänk på att  efterfrågan kommer vara stor på liggplatser och antalet är begränsat\, dessutom ökar priset närmare avgång. Viktigt att vara snabb här. \n \nResan är öppen för medlemmar i Björklidens Golfklubb. Om du har någon medföljande som inte är medlem i klubben eller tänker stanna kortare eller längre tid\, så maila reseledarna. Sista dag för anmälan är 27 juni men boka gärna snabbt om du är intresserad. \n \nFörslag nedan på flyg med Norwegian men flyg finns även med SAS\n\n27 juli. Norwegian avresa Arlanda 11:35 ank. Kiruna 13:10  Busstransfer från Kiruna flygplats 15.45.\n3 augusti. Norwegian avresa Kiruna 13:40 ank Arlanda 15:15. Busstransfer från Björkliden 11.10.\nSe till att du bokar din resa med Low Fare+ samt golfutrustning (700 SEK)\n\nRekommenderad  resa med tåg till Björkliden (när platserna släpps) \n\nTåg VY liggvagn avresa Stockholm 27 juli 18.09 ank. Björkliden 28 juli 11.18.\nTåg VY liggvagn avresa Björkliden 3 augusti 16.27 ank. Stockholm 10 augusti 10.17\n\nVid anmälan säkra först din resa med tåg/flyg så du ordnat transport. Ange också hur du tar dig mellan Flygplatsen och Björkliden eller om du har behov av transfer samt vem/vilka du vill dela stuga med. Rum finns också att boka på hotellet men är betydligt dyrare (0980-64100). \n \nOBS! För dig som inte har bestämt dig än för resan men troligen är intresserad av att följa med anmäl då ditt intresse så tar någon av reseledarna kontakt med dig och ger svar på dina frågor alternativt maila  själv direkt. \n \nHär gör du din anmälan/intresseanmälan för resan\nReseledare Jarl Klang (jarl.klang@mail.com) och Ginger Flärvall (flarvall@gmail.com). \nVälkommen och få lite fjälluft du med! \nBjörklidens Golfklubb
URL:https://www.bjorklidensgolfklubb.se/event/dags-att-boka-klubbresan-till-bjorkliden-lappland-2-9-augusti/
CATEGORIES:60+,Aktiviteter,Inlägg,Nöjen,Resor,Senaste Nytt,Tävling
ATTACH;FMTTYPE=image/jpeg:https://www.bjorklidensgolfklubb.se/wp-content/uploads/2023/12/455_Bjorkliden_View_jacobsjoman_LOWRes.jpg
END:VEVENT
BEGIN:VEVENT
DTSTART;TZID=Europe/Stockholm:20250815T100000
DTEND;TZID=Europe/Stockholm:20250815T153000
DTSTAMP:20260421T224947
CREATED:20250802T120904Z
LAST-MODIFIED:20250807T150843Z
UID:48341-1755252000-1755271800@www.bjorklidensgolfklubb.se
SUMMARY:Dagsresa med Björklidens GK till fina Viksberg utanför Södertälje
DESCRIPTION:Följ med på dagsresa fredagen den 15 augusti till Viksbergs härliga golfbana som vi besökt tidigare! Utflykten är öppen för medlemmar i Björklidens GK.  \nFika och fralla finns framdukad från 09.00 och efter 9 hål finns korv/macka och något att dricka för de som önskar\, detta ingår i deltagaravgiften. Första start är kl 10.00. \nDeltagaravgift för detta är endast 75 kr/person om du har fritt spel på Viksberg i ditt Golfstar medlemskap. I annat fall tillkommer greenfee som gäst till medlem 525:- och blir totalt 600:- inklusive deltagaravgiften. \nVi spelar en lättsam poängbogey både individuellt och i lag (denna gång läggs de 2 bästa individuella poängen i bollen på varje hål läggs ihop till ett samlat lagresultat). Efter spelet håller vi en liten prisutdelning och belönar några goda insatser. Det finns ett begränsat antal platser och först till kvarn gäller som vanligt. För bokning följ länken nedanför. \nJa\, jag vill följa med till Viksberg den 15 augusti. \nFyll i om du behöver skjuts eller om du kan skjutsa någon så blir det lättare för alla som vill att hänga med!! Se till att du är på plats i god tid innan din start och glöm inte att kaffe och fralla finns att värma upp sig med. Startlista skickas dagen innan. \nLedare är Ginger 070-421 6049\, flarvall@gmail.com och Jarl 0708-343534 jarl.klang@mail.com.  \nHäng med du också! \nBjörklidens Golfklubb
URL:https://www.bjorklidensgolfklubb.se/event/dagsresa-med-bjorklidens-gk-till-viksberg-arets-sista/
CATEGORIES:60+,Aktiviteter,Inlägg,Nyheter,Resor,Senaste Nytt
ATTACH;FMTTYPE=image/jpeg:https://www.bjorklidensgolfklubb.se/wp-content/uploads/2024/09/Viksberg-bild.jpg
END:VEVENT
BEGIN:VEVENT
DTSTART;TZID=Europe/Stockholm:20250829T090000
DTEND;TZID=Europe/Stockholm:20250829T160000
DTSTAMP:20260421T224947
CREATED:20220917T115911Z
LAST-MODIFIED:20250814T190532Z
UID:46118-1756458000-1756483200@www.bjorklidensgolfklubb.se
SUMMARY:Dagsresa till Golfstar Riksten den 29 augusti
DESCRIPTION:Följ med på dagsresa fredagen den 29 augusti. Denna gång besöker vi den omväxlande banan i Riksten. Utflykten är som vanligt öppen för medlemmar i Björklidens GK. \nFrån 09:00 serveras kaffe och fralla med ost i restaurangen och 09:45 samlas vi för en kort genomgång innan spelet börjar\, första start är 10:00.  \nEfter 9 hål bjuds på en grillad korv med tillbehör och dricka innan vi avslutar rundan med de sista 9 hålen. Efter färdig runda har vi en liten prisutdelning och belönar några goda resultat innan vi beger oss hem igen\, förhoppningsvis nöjda och  glada..  \nDeltagaravgiften är 75 kr/person om du har fritt spel på Golfstar Riksten 18-hålsbana i ditt medlemskap\, Har du inte det tillkommer greenfee som gäst till medlem 600:-\, totalt 675:-. 24 platser finns tillgängliga och först till kvarn gäller som vanligt\, sista dag för anmälan är 26 augusti.   \nObservera att inbetald deltagaravgift inte kan återbetalas vid avbokning efter 26 augusti\, däremot kan du överlåta din plats till någon annan intresserad i klubben.  \nAnmälan till Riksten gör du via denna länk\, se till att din anmälan blir korrekt ifylld så du blir anmäld och inte heller missar viktig information.  \nKontaktpersoner: Ginger Flärvall 070-421 60 49 flarvall@gmail.com och Jan Ulrich 073-811 32 14\, jano.ulrich@outlook.com.  \nHäng med du också! \nBjörklidens Golfklubb
URL:https://www.bjorklidensgolfklubb.se/event/dagsresa-till-gripsholm-arets-sista/
CATEGORIES:Aktiviteter,Nöjen,Nyheter,Resor,Senaste Nytt,Tävling
ATTACH;FMTTYPE=image/webp:https://www.bjorklidensgolfklubb.se/wp-content/uploads/2022/09/Riksten3.webp
END:VEVENT
END:VCALENDAR