BEGIN:VCALENDAR
VERSION:2.0
PRODID:-//Björklidens Golfklubb - ECPv6.15.20//NONSGML v1.0//EN
CALSCALE:GREGORIAN
METHOD:PUBLISH
X-ORIGINAL-URL:https://www.bjorklidensgolfklubb.se
X-WR-CALDESC:Händelser för Björklidens Golfklubb
REFRESH-INTERVAL;VALUE=DURATION:PT1H
X-Robots-Tag:noindex
X-PUBLISHED-TTL:PT1H
BEGIN:VTIMEZONE
TZID:Europe/Stockholm
BEGIN:DAYLIGHT
TZOFFSETFROM:+0100
TZOFFSETTO:+0200
TZNAME:CEST
DTSTART:20230326T010000
END:DAYLIGHT
BEGIN:STANDARD
TZOFFSETFROM:+0200
TZOFFSETTO:+0100
TZNAME:CET
DTSTART:20231029T010000
END:STANDARD
BEGIN:DAYLIGHT
TZOFFSETFROM:+0100
TZOFFSETTO:+0200
TZNAME:CEST
DTSTART:20240331T010000
END:DAYLIGHT
BEGIN:STANDARD
TZOFFSETFROM:+0200
TZOFFSETTO:+0100
TZNAME:CET
DTSTART:20241027T010000
END:STANDARD
BEGIN:DAYLIGHT
TZOFFSETFROM:+0100
TZOFFSETTO:+0200
TZNAME:CEST
DTSTART:20250330T010000
END:DAYLIGHT
BEGIN:STANDARD
TZOFFSETFROM:+0200
TZOFFSETTO:+0100
TZNAME:CET
DTSTART:20251026T010000
END:STANDARD
END:VTIMEZONE
BEGIN:VEVENT
DTSTART;TZID=Europe/Stockholm:20240817T083000
DTEND;TZID=Europe/Stockholm:20240817T153000
DTSTAMP:20260422T173322
CREATED:20240721T162847Z
LAST-MODIFIED:20240721T170111Z
UID:46038-1723883400-1723908600@www.bjorklidensgolfklubb.se
SUMMARY:Dagsresa med Björklidens Golfklubb 17 augusti till Bro-Bålsta GKs fina 9-hålsbana.
DESCRIPTION:Banan som har en mycket trevlig design och är i god kondition sträcker sig genom skog och äng och passerar också lite vatten. Vi spelar två rundor med lunch emellan. \nKostnaden är 250:- per person och är ordentligt subventionerat av Björklidens GK. Då ingår heldagsgreenfee och morgonkaffe före start\, samt en varm lunch mellan rundorna! Vi spelar en lättsam poängbogey och efter spelet håller vi en liten prisutdelning och belönar några resultat. Begränsat antal platser\, och först till kvarn gäller som vanligt. \nAnmälan gör du här senast den 12 augusti. \nFyll i om du behöver skjuts eller om du kan skjutsa någon så blir det lättare för alla som vill att hänga med! Första starttid är kl 10:00 och starttid för andra varvet är 13.00 och däremellan bjuds det på lunch. Kaffe finns framdukat från 08.30. \nKontaktperson: Jarl Klang 0708-343534\, jarl.klang@mail.com och Johan Damström johan@damstrom.nu. \nVälkomna och häng på! \nBjörklidens Golfklubb
URL:https://www.bjorklidensgolfklubb.se/event/dagsresa-med-bjorklidens-golfklubb-till-bro-balsta-gk-9-halsbanan-2-varv/
CATEGORIES:Aktiviteter,Nyheter,Resor
ATTACH;FMTTYPE=image/jpeg:https://www.bjorklidensgolfklubb.se/wp-content/uploads/2024/07/BroBalsta-klubbhus.jpg
END:VEVENT
END:VCALENDAR