BEGIN:VCALENDAR
VERSION:2.0
PRODID:-//Björklidens Golfklubb - ECPv6.15.20//NONSGML v1.0//EN
CALSCALE:GREGORIAN
METHOD:PUBLISH
X-ORIGINAL-URL:https://www.bjorklidensgolfklubb.se
X-WR-CALDESC:Händelser för Björklidens Golfklubb
REFRESH-INTERVAL;VALUE=DURATION:PT1H
X-Robots-Tag:noindex
X-PUBLISHED-TTL:PT1H
BEGIN:VTIMEZONE
TZID:Europe/Stockholm
BEGIN:DAYLIGHT
TZOFFSETFROM:+0100
TZOFFSETTO:+0200
TZNAME:CEST
DTSTART:20230326T010000
END:DAYLIGHT
BEGIN:STANDARD
TZOFFSETFROM:+0200
TZOFFSETTO:+0100
TZNAME:CET
DTSTART:20231029T010000
END:STANDARD
BEGIN:DAYLIGHT
TZOFFSETFROM:+0100
TZOFFSETTO:+0200
TZNAME:CEST
DTSTART:20240331T010000
END:DAYLIGHT
BEGIN:STANDARD
TZOFFSETFROM:+0200
TZOFFSETTO:+0100
TZNAME:CET
DTSTART:20241027T010000
END:STANDARD
BEGIN:DAYLIGHT
TZOFFSETFROM:+0100
TZOFFSETTO:+0200
TZNAME:CEST
DTSTART:20250330T010000
END:DAYLIGHT
BEGIN:STANDARD
TZOFFSETFROM:+0200
TZOFFSETTO:+0100
TZNAME:CET
DTSTART:20251026T010000
END:STANDARD
END:VTIMEZONE
BEGIN:VEVENT
DTSTART;TZID=Europe/Stockholm:20240709T090000
DTEND;TZID=Europe/Stockholm:20240709T153000
DTSTAMP:20260422T184636
CREATED:20240619T193518Z
LAST-MODIFIED:20240619T193519Z
UID:45965-1720515600-1720539000@www.bjorklidensgolfklubb.se
SUMMARY:Dagsutflykt med Björklidens GK till Lindö Dal 9 juli
DESCRIPTION:Följ med på dagsresa tisdagen den 9 juli\, denna gång söker vi oss till  Lindö Dals härliga golfbana! Utflykten är öppen för medlemmar i Björklidens GK. \nFrån 08:30 serveras kaffe och macka i restaurangen på Lindö och 09:30 samlas vi sedan för en kort genomgång inför spelet\, första start är 10:10.  \nVi kommer att spela en rolig sällskapsgolf i form av partävling med tre olika spelformer. Anmäl dig med en spelkamrat eller bara dig själv\, så lottas du ihop med en lämplig partner. Som vanligt sker allt spel under lättsamma former. Efter färdig runda bjuder klubben på pizza slice och dricka samt håller vi en liten prisutdelning och belönar några goda prestationer.  \nDeltagaravgiften är 50 kr/person om du har fritt spel på Lindö Dal i ditt medlemskap\, Har du inte det tillkommer greenfee som gäst till medlem. Ett deltagande påverkar inte antalet samtidiga bokningar i ditt Golfstar-medlemskap. 24 platser finns tillgängliga och först till kvarn gäller som vanligt och sista dag för anmälan är 5 juli. Observera att inbetald deltagaravgift inte återbetalas vid avbokning\, däremot kan du överlåta din plats till någon annan intresserad i klubben.  \nVid anmälan fyll i om du behöver skjuts eller om du kan skjutsa någon så blir det lättare för alla som vill att hänga med!!  \nKontaktpersoner: Ginger Flärvall (flarvall@gmail.com) och Ulf Jakobsson (ulfjakobsson@telia.com).  \nAnmälan till dagsutflykten till Lindö Dal gör du här. \nHäng med du också! \nBjörklidens Golfklubb
URL:https://www.bjorklidensgolfklubb.se/event/dagsutflykt-med-bjorklidens-gk-till-friibergh-29-juni/
CATEGORIES:Aktiviteter,Nöjen,Nyheter,Resor,Tävling
ATTACH;FMTTYPE=image/jpeg:https://www.bjorklidensgolfklubb.se/wp-content/uploads/2022/06/Hal-lindo-dal.jpeg
END:VEVENT
END:VCALENDAR