BEGIN:VCALENDAR
VERSION:2.0
PRODID:-//Björklidens Golfklubb - ECPv6.15.20//NONSGML v1.0//EN
CALSCALE:GREGORIAN
METHOD:PUBLISH
X-WR-CALNAME:Björklidens Golfklubb
X-ORIGINAL-URL:https://www.bjorklidensgolfklubb.se
X-WR-CALDESC:Händelser för Björklidens Golfklubb
REFRESH-INTERVAL;VALUE=DURATION:PT1H
X-Robots-Tag:noindex
X-PUBLISHED-TTL:PT1H
BEGIN:VTIMEZONE
TZID:Europe/Stockholm
BEGIN:DAYLIGHT
TZOFFSETFROM:+0100
TZOFFSETTO:+0200
TZNAME:CEST
DTSTART:20230326T010000
END:DAYLIGHT
BEGIN:STANDARD
TZOFFSETFROM:+0200
TZOFFSETTO:+0100
TZNAME:CET
DTSTART:20231029T010000
END:STANDARD
BEGIN:DAYLIGHT
TZOFFSETFROM:+0100
TZOFFSETTO:+0200
TZNAME:CEST
DTSTART:20240331T010000
END:DAYLIGHT
BEGIN:STANDARD
TZOFFSETFROM:+0200
TZOFFSETTO:+0100
TZNAME:CET
DTSTART:20241027T010000
END:STANDARD
BEGIN:DAYLIGHT
TZOFFSETFROM:+0100
TZOFFSETTO:+0200
TZNAME:CEST
DTSTART:20250330T010000
END:DAYLIGHT
BEGIN:STANDARD
TZOFFSETFROM:+0200
TZOFFSETTO:+0100
TZNAME:CET
DTSTART:20251026T010000
END:STANDARD
END:VTIMEZONE
BEGIN:VEVENT
DTSTART;TZID=Europe/Stockholm:20240628T000000
DTEND;TZID=Europe/Stockholm:20240628T235959
DTSTAMP:20260422T201006
CREATED:20201123T132241Z
LAST-MODIFIED:20240616T181830Z
UID:4191-1719532800-1719619199@www.bjorklidensgolfklubb.se
SUMMARY:En dag på Lövsättras golfbana med Björklidens GK 28 juni
DESCRIPTION:Följ med på dagsresa fredagen den 28 juni\, denna gång till Lövsättras  härliga golfbana som vi besökt förr! Utflykten är öppen för medlemmar i Björklidens GK. \nVi samlas från 09:15 i restaurangen för morgonfika\, en macka och lite information\, första start är 10:00. Efter 9 hål får vi en välgrillad hamburgare innan vi avslutar med de sista 9 hålen. Efter färdig runda håller vi en liten prisutdelning och belönar några resultat innan vi beger oss hem igen.  \nVi spelar sällskapsgolf med en 18 håls individuell poäng-bogey och genomför samtidigt en lagtävling\, där bollens bästa resultat på varje hål räknas. Som vanligt sker allt spel under lättsamma former. Anmälan gör du här på sidan. Observera att inbetald deltagaravgift inte återbetalas vid avbokning\, däremot kan du överlåta din plats till någon annan intresserad i klubben.  \nKostnad för allt endast 50 kr/person om du har fritt spel på Lövsättra i ditt medlemskap och ditt deltagande påverkar inte antalet samtidiga bokningar i ditt Golfstar medlemskap\, om du har sådana. Täcker ditt medlemskap inte spel på Lövsättra tillkommer greenfee som gäst till medlem. 24 platser finns tillgängliga och först till kvarn gäller som vanligt. \nFyll i vid anmälan om du behöver skjuts eller om du kan skjutsa någon så blir det lättare för alla som vill att hänga med! Kontaktperson: Jarl Klang 0708-343534\, jarl.klang@mail.com eller Johan Damström johan@damstrom.nu \nFör bokning följ länken kortresa Lövsättra 28 juni \nPassa på och häng med du också! \nBjörklidens Golfklubb \n  \n  \n 
URL:https://www.bjorklidensgolfklubb.se/event/kortresa-till-lovsattra/
CATEGORIES:60+,Aktiviteter,Nöjen,Nyheter,Resor
ATTACH;FMTTYPE=image/jpeg:https://www.bjorklidensgolfklubb.se/wp-content/uploads/2020/11/Lövsättra-bana.jpg
END:VEVENT
END:VCALENDAR