BEGIN:VCALENDAR
VERSION:2.0
PRODID:-//Björklidens Golfklubb - ECPv6.15.20//NONSGML v1.0//EN
CALSCALE:GREGORIAN
METHOD:PUBLISH
X-ORIGINAL-URL:https://www.bjorklidensgolfklubb.se
X-WR-CALDESC:Händelser för Björklidens Golfklubb
REFRESH-INTERVAL;VALUE=DURATION:PT1H
X-Robots-Tag:noindex
X-PUBLISHED-TTL:PT1H
BEGIN:VTIMEZONE
TZID:Europe/Stockholm
BEGIN:DAYLIGHT
TZOFFSETFROM:+0100
TZOFFSETTO:+0200
TZNAME:CEST
DTSTART:20240331T010000
END:DAYLIGHT
BEGIN:STANDARD
TZOFFSETFROM:+0200
TZOFFSETTO:+0100
TZNAME:CET
DTSTART:20241027T010000
END:STANDARD
BEGIN:DAYLIGHT
TZOFFSETFROM:+0100
TZOFFSETTO:+0200
TZNAME:CEST
DTSTART:20250330T010000
END:DAYLIGHT
BEGIN:STANDARD
TZOFFSETFROM:+0200
TZOFFSETTO:+0100
TZNAME:CET
DTSTART:20251026T010000
END:STANDARD
BEGIN:DAYLIGHT
TZOFFSETFROM:+0100
TZOFFSETTO:+0200
TZNAME:CEST
DTSTART:20260329T010000
END:DAYLIGHT
BEGIN:STANDARD
TZOFFSETFROM:+0200
TZOFFSETTO:+0100
TZNAME:CET
DTSTART:20261025T010000
END:STANDARD
END:VTIMEZONE
BEGIN:VEVENT
DTSTART;TZID=Europe/Stockholm:20250403T170000
DTEND;TZID=Europe/Stockholm:20250403T190000
DTSTAMP:20260423T101041
CREATED:20240315T092728Z
LAST-MODIFIED:20250328T095117Z
UID:47645-1743699600-1743706800@www.bjorklidensgolfklubb.se
SUMMARY:Dags igen för damgolf inomhus på Scratch Golf torsdagar - OBS! nästa är 3 april
DESCRIPTION:Nu är inomhussäsongen påväg att avslutas och vi är tvungna att byta dag till torsdagar fram till att utomhussäsongen startar. Vi träffas och spelar en häftig bana på simulatorn på Scratch golf i Bromma varje onsdag kl 17-19\,  Ekbacksvägen 32 i Bromma. Vi spelar en trevlig golfbana under två timmar och bör lätt hinna med alla 18 hålen. Du bör vara på plats redan 16:45 för att få instruktioner och veta vem du ska spela med.\n \nVi två på varje matta för maximalt golfspel! Kostnaden är 150:- per person. Anmälan är bindande och du kommer lottas ihop med någon av de andra damerna. Får du förhinder kan du alltid överlåta/”sälja” din plats till någon annan dam i klubben. Läs gärna mer om möjligheterna för detta via vår medlemschat på bokningssidan.  \n \nAnmälan för kommande onsdag öppnar normalt fredag och stängs kl. 19 på måndag\, sedan måste vi meddela golfhallen hur många som spelar på onsdagen. Det finns 20 platser och först till kvarn gäller som alltid. Anmälan och betalning görs på en och samma gång via länken nedan. \n \nAnmäl dig här: Damgolf torsdag 3 april 17.00-19.00 \n \nTräning med Johan Almgren\nFör att inte fastna i något tokigt felsvingande under vintersäsongen kommer det bli träning en onsdag varje månad med allas vår Johan Almgren den 27/11\, 11/12\, 15/1 12/2 och den 12/3. Bokningen sker här som vanligt men kostnaden vid de tillfällena är 200kr/pers.\n \nUnder vintersäsongen kommer vi även att spela en Eclectic\, se närmare information på bokningssidan om hur det går till. \n \n\nParkering finns både på bak och framsidan\, på framsidan kostar det 5 kr timmen. På baksidan finns några få gratisparkeringar\, men glöm inte p-skivan i bilfönstret.\n\n \nHjärtligt välkomna till en härlig vintersäsong med mycket inomhusgolf\, trevlig samvaro\, bra träning och många glada skratt!\n \nGinger och Berit\nLedare Damsektionen\nBjörklidens Golfklubb                                                                                                                                                                                                                           
URL:https://www.bjorklidensgolfklubb.se/event/har-anmaler-du-dig-till-damgolf-pa-scratch-golf-onsdagar-nasta-20-mars/
CATEGORIES:Aktiviteter,Nyheter,Träning
ATTACH;FMTTYPE=image/png:https://www.bjorklidensgolfklubb.se/wp-content/uploads/2024/03/Damer-scratchgolf.png
END:VEVENT
END:VCALENDAR